Package: ACE Version: 1.25.0 Command: rm -rf ACE.buildbin-libdir && mkdir ACE.buildbin-libdir && /Users/biocbuild/BBS/utils/build-universal.sh ACE_1.25.0.tar.gz /Library/Frameworks/R.framework/Resources/bin/R ACE.buildbin-libdir StartedAt: 2025-02-10 00:41:06 -0500 (Mon, 10 Feb 2025) EndedAt: 2025-02-10 00:41:37 -0500 (Mon, 10 Feb 2025) EllapsedTime: 31.2 seconds RetCode: 0 Status: OK PackageFile: ACE_1.25.0.tgz PackageFileSize: 2.787 MiB