Package: ACE Version: 1.25.0 Command: /Library/Frameworks/R.framework/Resources/bin/R CMD build --keep-empty-dirs --no-resave-data ACE StartedAt: 2025-02-09 15:51:47 -0500 (Sun, 09 Feb 2025) EndedAt: 2025-02-09 15:52:50 -0500 (Sun, 09 Feb 2025) EllapsedTime: 63.1 seconds RetCode: 0 Status: OK PackageFile: ACE_1.25.0.tar.gz PackageFileSize: 2.633 MiB