Package: ACE Version: 1.25.0 Command: rm -rf ACE.buildbin-libdir && mkdir ACE.buildbin-libdir && E:\biocbuild\bbs-3.21-bioc\R\bin\R.exe CMD INSTALL --build --library=ACE.buildbin-libdir ACE_1.25.0.tar.gz StartedAt: 2025-02-10 07:09:56 -0500 (Mon, 10 Feb 2025) EndedAt: 2025-02-10 07:10:32 -0500 (Mon, 10 Feb 2025) EllapsedTime: 36.0 seconds RetCode: 0 Status: OK PackageFile: ACE_1.25.0.zip PackageFileSize: 992.9 KiB