Package: ACE Version: 1.25.0 Command: E:\biocbuild\bbs-3.21-bioc\R\bin\R.exe CMD check --no-multiarch --install=check:ACE.install-out.txt --library=E:\biocbuild\bbs-3.21-bioc\R\library --no-vignettes --timings ACE_1.25.0.tar.gz StartedAt: 2025-02-12 22:37:03 -0500 (Wed, 12 Feb 2025) EndedAt: 2025-02-12 22:40:07 -0500 (Wed, 12 Feb 2025) EllapsedTime: 183.8 seconds RetCode: 0 Status: OK CheckDir: ACE.Rcheck Warnings: 0