Package: ACME Version: 2.63.0 Maintainer: Sean Davis MaintainerEmail: sdavis2 at mail.nih.gov git_url: https://git.bioconductor.org/packages/ACME git_branch: devel git_last_commit: e012f98 git_last_commit_date: 2024-10-29 09:27:39 -0500 (Tue, 29 Oct 2024)