Package: ACME Version: 2.63.0 Command: rm -rf ACME.buildbin-libdir && mkdir ACME.buildbin-libdir && /Users/biocbuild/BBS/utils/build-universal.sh ACME_2.63.0.tar.gz /Library/Frameworks/R.framework/Resources/bin/R ACME.buildbin-libdir StartedAt: 2025-02-09 22:05:12 -0500 (Sun, 09 Feb 2025) EndedAt: 2025-02-09 22:05:17 -0500 (Sun, 09 Feb 2025) EllapsedTime: 5.1 seconds RetCode: 0 Status: OK PackageFile: ACME_2.63.0.tgz PackageFileSize: 10.16 MiB