Package: ACME Version: 2.63.0 Command: rm -rf ACME.buildbin-libdir && mkdir ACME.buildbin-libdir && /Users/biocbuild/BBS/utils/build-universal.sh ACME_2.63.0.tar.gz /Library/Frameworks/R.framework/Resources/bin/R ACME.buildbin-libdir StartedAt: 2025-02-10 00:41:06 -0500 (Mon, 10 Feb 2025) EndedAt: 2025-02-10 00:41:27 -0500 (Mon, 10 Feb 2025) EllapsedTime: 20.9 seconds RetCode: 0 Status: OK PackageFile: ACME_2.63.0.tgz PackageFileSize: 10.16 MiB