Package: ACME Version: 2.63.0 Command: /Library/Frameworks/R.framework/Resources/bin/R CMD build --keep-empty-dirs --no-resave-data ACME StartedAt: 2025-02-12 15:50:30 -0500 (Wed, 12 Feb 2025) EndedAt: 2025-02-12 15:51:05 -0500 (Wed, 12 Feb 2025) EllapsedTime: 34.5 seconds RetCode: 0 Status: OK PackageFile: ACME_2.63.0.tar.gz PackageFileSize: 9.909 MiB