Package: ACME Version: 2.63.0 Command: /Library/Frameworks/R.framework/Resources/bin/R CMD INSTALL ACME StartedAt: 2025-02-09 15:05:06 -0500 (Sun, 09 Feb 2025) EndedAt: 2025-02-09 15:05:19 -0500 (Sun, 09 Feb 2025) EllapsedTime: 13.0 seconds RetCode: 0 Status: OK