Package: ACME Version: 2.63.0 Command: /home/biocbuild/bbs-3.21-bioc/R/bin/R CMD check --install=check:ACME.install-out.txt --library=/home/biocbuild/bbs-3.21-bioc/R/site-library --timings ACME_2.63.0.tar.gz StartedAt: 2025-02-09 19:54:34 -0500 (Sun, 09 Feb 2025) EndedAt: 2025-02-09 19:55:43 -0500 (Sun, 09 Feb 2025) EllapsedTime: 69.2 seconds RetCode: 0 Status: WARNINGS CheckDir: ACME.Rcheck Warnings: 1