Package: ACME Version: 2.63.0 Command: /home/biocbuild/bbs-3.21-bioc/R/bin/R CMD INSTALL ACME StartedAt: 2025-02-12 15:12:41 -0500 (Wed, 12 Feb 2025) EndedAt: 2025-02-12 15:12:46 -0500 (Wed, 12 Feb 2025) EllapsedTime: 4.8 seconds RetCode: 0 Status: OK