Package: ACME Version: 2.63.0 Command: rm -rf ACME.buildbin-libdir && mkdir ACME.buildbin-libdir && E:\biocbuild\bbs-3.21-bioc\R\bin\R.exe CMD INSTALL --build --library=ACME.buildbin-libdir ACME_2.63.0.tar.gz StartedAt: 2025-02-10 07:09:56 -0500 (Mon, 10 Feb 2025) EndedAt: 2025-02-10 07:10:36 -0500 (Mon, 10 Feb 2025) EllapsedTime: 39.4 seconds RetCode: 0 Status: OK PackageFile: ACME_2.63.0.zip PackageFileSize: 10.01 MiB