Package: ACME Version: 2.63.0 Command: chmod a+r ACME -R && E:\biocbuild\bbs-3.21-bioc\R\bin\R.exe CMD build --keep-empty-dirs --no-resave-data ACME StartedAt: 2025-02-12 17:10:16 -0500 (Wed, 12 Feb 2025) EndedAt: 2025-02-12 17:11:10 -0500 (Wed, 12 Feb 2025) EllapsedTime: 53.8 seconds RetCode: 0 Status: OK PackageFile: ACME_2.63.0.tar.gz PackageFileSize: 9.797 MiB