Package: ADImpute Version: 1.17.0 Command: /Library/Frameworks/R.framework/Resources/bin/R CMD check --install=check:ADImpute.install-out.txt --library=/Library/Frameworks/R.framework/Resources/library --no-vignettes --timings ADImpute_1.17.0.tar.gz StartedAt: 2025-02-04 17:59:53 -0500 (Tue, 04 Feb 2025) EndedAt: 2025-02-04 18:00:51 -0500 (Tue, 04 Feb 2025) EllapsedTime: 57.9 seconds RetCode: 0 Status: WARNINGS CheckDir: ADImpute.Rcheck Warnings: 1