Package: ADImpute Version: 1.17.0 Command: /Library/Frameworks/R.framework/Resources/bin/R CMD build --keep-empty-dirs --no-resave-data ADImpute StartedAt: 2025-02-12 15:50:30 -0500 (Wed, 12 Feb 2025) EndedAt: 2025-02-12 15:51:07 -0500 (Wed, 12 Feb 2025) EllapsedTime: 36.8 seconds RetCode: 0 Status: OK PackageFile: ADImpute_1.17.0.tar.gz PackageFileSize: 2.117 MiB