Package: ADImpute Version: 1.17.0 Command: rm -rf ADImpute.buildbin-libdir && mkdir ADImpute.buildbin-libdir && E:\biocbuild\bbs-3.21-bioc\R\bin\R.exe CMD INSTALL --build --library=ADImpute.buildbin-libdir ADImpute_1.17.0.tar.gz StartedAt: 2025-02-05 07:22:47 -0500 (Wed, 05 Feb 2025) EndedAt: 2025-02-05 07:23:21 -0500 (Wed, 05 Feb 2025) EllapsedTime: 33.6 seconds RetCode: 0 Status: OK PackageFile: ADImpute_1.17.0.zip PackageFileSize: 2.301 MiB