Package: ADImpute Version: 1.17.0 Command: E:\biocbuild\bbs-3.21-bioc\R\bin\R.exe CMD check --no-multiarch --install=check:ADImpute.install-out.txt --library=E:\biocbuild\bbs-3.21-bioc\R\library --no-vignettes --timings ADImpute_1.17.0.tar.gz StartedAt: 2025-02-04 22:55:02 -0500 (Tue, 04 Feb 2025) EndedAt: 2025-02-04 22:58:07 -0500 (Tue, 04 Feb 2025) EllapsedTime: 184.5 seconds RetCode: 0 Status: WARNINGS CheckDir: ADImpute.Rcheck Warnings: 1