Package: AGDEX Version: 1.55.0 Command: rm -rf AGDEX.buildbin-libdir && mkdir AGDEX.buildbin-libdir && /Users/biocbuild/BBS/utils/build-universal.sh AGDEX_1.55.0.tar.gz /Library/Frameworks/R.framework/Resources/bin/R AGDEX.buildbin-libdir StartedAt: 2025-02-12 22:10:24 -0500 (Wed, 12 Feb 2025) EndedAt: 2025-02-12 22:10:31 -0500 (Wed, 12 Feb 2025) EllapsedTime: 7.2 seconds RetCode: 0 Status: OK PackageFile: AGDEX_1.55.0.tgz PackageFileSize: 560.3 KiB