Package: AGDEX Version: 1.55.0 Command: /home/biocbuild/R/R/bin/R CMD build --keep-empty-dirs --no-resave-data AGDEX StartedAt: 2025-01-29 20:46:22 -0000 (Wed, 29 Jan 2025) EndedAt: 2025-01-29 20:46:51 -0000 (Wed, 29 Jan 2025) EllapsedTime: 29.0 seconds RetCode: 0 Status: OK PackageFile: AGDEX_1.55.0.tar.gz PackageFileSize: 483.5 KiB