Package: AGDEX Version: 1.55.0 Command: rm -rf AGDEX.buildbin-libdir && mkdir AGDEX.buildbin-libdir && /Users/biocbuild/BBS/utils/build-universal.sh AGDEX_1.55.0.tar.gz /Library/Frameworks/R.framework/Resources/bin/R AGDEX.buildbin-libdir StartedAt: 2025-02-13 00:24:29 -0500 (Thu, 13 Feb 2025) EndedAt: 2025-02-13 00:24:55 -0500 (Thu, 13 Feb 2025) EllapsedTime: 26.5 seconds RetCode: 0 Status: OK PackageFile: AGDEX_1.55.0.tgz PackageFileSize: 559.4 KiB