Package: AGDEX Version: 1.55.0 Command: /Library/Frameworks/R.framework/Resources/bin/R CMD build --keep-empty-dirs --no-resave-data AGDEX StartedAt: 2025-02-09 15:52:02 -0500 (Sun, 09 Feb 2025) EndedAt: 2025-02-09 15:52:32 -0500 (Sun, 09 Feb 2025) EllapsedTime: 29.8 seconds RetCode: 0 Status: OK PackageFile: AGDEX_1.55.0.tar.gz PackageFileSize: 487.1 KiB