Package: AGDEX Version: 1.55.0 Command: /home/biocbuild/bbs-3.21-bioc/R/bin/R CMD check --install=check:AGDEX.install-out.txt --library=/home/biocbuild/bbs-3.21-bioc/R/site-library --timings AGDEX_1.55.0.tar.gz StartedAt: 2025-02-09 19:55:39 -0500 (Sun, 09 Feb 2025) EndedAt: 2025-02-09 19:56:49 -0500 (Sun, 09 Feb 2025) EllapsedTime: 70.1 seconds RetCode: 0 Status: OK CheckDir: AGDEX.Rcheck Warnings: 0