Package: AGDEX Version: 1.55.0 Command: rm -rf AGDEX.buildbin-libdir && mkdir AGDEX.buildbin-libdir && E:\biocbuild\bbs-3.21-bioc\R\bin\R.exe CMD INSTALL --build --library=AGDEX.buildbin-libdir AGDEX_1.55.0.tar.gz StartedAt: 2025-02-10 07:10:32 -0500 (Mon, 10 Feb 2025) EndedAt: 2025-02-10 07:11:13 -0500 (Mon, 10 Feb 2025) EllapsedTime: 40.3 seconds RetCode: 0 Status: OK PackageFile: AGDEX_1.55.0.zip PackageFileSize: 562.9 KiB