Package: AHMassBank Version: 1.7.0 Command: /Library/Frameworks/R.framework/Resources/bin/R CMD build --keep-empty-dirs --no-resave-data AHMassBank StartedAt: 2025-02-09 15:31:48 -0500 (Sun, 09 Feb 2025) EndedAt: 2025-02-09 15:32:10 -0500 (Sun, 09 Feb 2025) EllapsedTime: 21.2 seconds RetCode: 0 Status: OK PackageFile: AHMassBank_1.7.0.tar.gz PackageFileSize: 293.2 KiB