Package: AHMassBank Version: 1.7.0 Command: /Library/Frameworks/R.framework/Resources/bin/R CMD INSTALL AHMassBank StartedAt: 2025-02-12 15:13:01 -0500 (Wed, 12 Feb 2025) EndedAt: 2025-02-12 15:13:17 -0500 (Wed, 12 Feb 2025) EllapsedTime: 16.3 seconds RetCode: 0 Status: OK