Package: AHMassBank Version: 1.7.0 Command: /home/biocbuild/R/R/bin/R CMD INSTALL AHMassBank StartedAt: 2025-01-29 20:04:59 -0000 (Wed, 29 Jan 2025) EndedAt: 2025-01-29 20:05:53 -0000 (Wed, 29 Jan 2025) EllapsedTime: 54.0 seconds RetCode: 0 Status: OK