Package: AHMassBank Version: 1.7.0 Command: rm -rf AHMassBank.buildbin-libdir && mkdir AHMassBank.buildbin-libdir && /Users/biocbuild/BBS/utils/build-universal.sh AHMassBank_1.7.0.tar.gz /Library/Frameworks/R.framework/Resources/bin/R AHMassBank.buildbin-libdir StartedAt: 2025-02-13 00:24:29 -0500 (Thu, 13 Feb 2025) EndedAt: 2025-02-13 00:25:26 -0500 (Thu, 13 Feb 2025) EllapsedTime: 57.7 seconds RetCode: 0 Status: OK PackageFile: AHMassBank_1.7.0.tgz PackageFileSize: 300.1 KiB