Package: AHMassBank Version: 1.7.0 Command: /Library/Frameworks/R.framework/Resources/bin/R CMD build --keep-empty-dirs --no-resave-data AHMassBank StartedAt: 2025-02-12 15:50:57 -0500 (Wed, 12 Feb 2025) EndedAt: 2025-02-12 15:52:00 -0500 (Wed, 12 Feb 2025) EllapsedTime: 63.0 seconds RetCode: 0 Status: OK PackageFile: AHMassBank_1.7.0.tar.gz PackageFileSize: 293.2 KiB