Package: AHMassBank Version: 1.7.0 Command: /home/biocbuild/bbs-3.21-bioc/R/bin/R CMD INSTALL AHMassBank StartedAt: 2025-02-09 15:40:20 -0500 (Sun, 09 Feb 2025) EndedAt: 2025-02-09 15:40:59 -0500 (Sun, 09 Feb 2025) EllapsedTime: 38.7 seconds RetCode: 0 Status: OK