Package: AHMassBank Version: 1.7.0 Command: rm -rf AHMassBank.buildbin-libdir && mkdir AHMassBank.buildbin-libdir && E:\biocbuild\bbs-3.21-bioc\R\bin\R.exe CMD INSTALL --build --library=AHMassBank.buildbin-libdir AHMassBank_1.7.0.tar.gz StartedAt: 2025-02-10 07:10:40 -0500 (Mon, 10 Feb 2025) EndedAt: 2025-02-10 07:11:36 -0500 (Mon, 10 Feb 2025) EllapsedTime: 56.0 seconds RetCode: 0 Status: OK PackageFile: AHMassBank_1.7.0.zip PackageFileSize: 307.3 KiB