Package: AHMassBank Version: 1.7.0 Command: chmod a+r AHMassBank -R && E:\biocbuild\bbs-3.21-bioc\R\bin\R.exe CMD build --keep-empty-dirs --no-resave-data AHMassBank StartedAt: 2025-02-12 17:11:19 -0500 (Wed, 12 Feb 2025) EndedAt: 2025-02-12 17:12:34 -0500 (Wed, 12 Feb 2025) EllapsedTime: 75.2 seconds RetCode: 0 Status: OK PackageFile: AHMassBank_1.7.0.tar.gz PackageFileSize: 293.5 KiB