Package: AHMassBank Version: 1.7.0 Command: E:\biocbuild\bbs-3.21-bioc\R\bin\R.exe CMD check --no-multiarch --install=check:AHMassBank.install-out.txt --library=E:\biocbuild\bbs-3.21-bioc\R\library --no-vignettes --timings AHMassBank_1.7.0.tar.gz StartedAt: 2025-02-09 22:31:28 -0500 (Sun, 09 Feb 2025) EndedAt: 2025-02-09 22:36:10 -0500 (Sun, 09 Feb 2025) EllapsedTime: 281.7 seconds RetCode: 0 Status: OK CheckDir: AHMassBank.Rcheck Warnings: 0