Package: AMARETTO Version: 1.23.0 Command: /home/biocbuild/R/R/bin/R CMD INSTALL AMARETTO StartedAt: 2025-01-29 20:15:47 -0000 (Wed, 29 Jan 2025) EndedAt: 2025-01-29 20:16:35 -0000 (Wed, 29 Jan 2025) EllapsedTime: 47.6 seconds RetCode: 0 Status: OK