Package: AMARETTO Version: 1.23.0 Command: rm -rf AMARETTO.buildbin-libdir && mkdir AMARETTO.buildbin-libdir && /Users/biocbuild/BBS/utils/build-universal.sh AMARETTO_1.23.0.tar.gz /Library/Frameworks/R.framework/Resources/bin/R AMARETTO.buildbin-libdir StartedAt: 2025-02-10 00:41:36 -0500 (Mon, 10 Feb 2025) EndedAt: 2025-02-10 00:42:28 -0500 (Mon, 10 Feb 2025) EllapsedTime: 52.1 seconds RetCode: 0 Status: OK PackageFile: AMARETTO_1.23.0.tgz PackageFileSize: 3.433 MiB