Package: AMARETTO Version: 1.23.0 Command: /Library/Frameworks/R.framework/Resources/bin/R CMD build --keep-empty-dirs --no-resave-data AMARETTO StartedAt: 2025-02-09 15:53:14 -0500 (Sun, 09 Feb 2025) EndedAt: 2025-02-09 15:54:16 -0500 (Sun, 09 Feb 2025) EllapsedTime: 61.8 seconds RetCode: 0 Status: OK PackageFile: AMARETTO_1.23.0.tar.gz PackageFileSize: 3.228 MiB