Package: AMARETTO Version: 1.23.0 Command: /Library/Frameworks/R.framework/Resources/bin/R CMD INSTALL AMARETTO StartedAt: 2025-02-09 15:31:44 -0500 (Sun, 09 Feb 2025) EndedAt: 2025-02-09 15:32:32 -0500 (Sun, 09 Feb 2025) EllapsedTime: 47.2 seconds RetCode: 0 Status: OK