Package: AMARETTO Version: 1.23.0 Command: E:\biocbuild\bbs-3.21-bioc\R\bin\R.exe CMD check --no-multiarch --install=check:AMARETTO.install-out.txt --library=E:\biocbuild\bbs-3.21-bioc\R\library --no-vignettes --timings AMARETTO_1.23.0.tar.gz StartedAt: 2025-02-12 22:42:23 -0500 (Wed, 12 Feb 2025) EndedAt: 2025-02-12 22:50:23 -0500 (Wed, 12 Feb 2025) EllapsedTime: 479.3 seconds RetCode: 0 Status: WARNINGS CheckDir: AMARETTO.Rcheck Warnings: 1