Package: AMOUNTAIN Version: 1.33.0 Command: rm -rf AMOUNTAIN.buildbin-libdir && mkdir AMOUNTAIN.buildbin-libdir && /Users/biocbuild/BBS/utils/build-universal.sh AMOUNTAIN_1.33.0.tar.gz /Library/Frameworks/R.framework/Resources/bin/R AMOUNTAIN.buildbin-libdir StartedAt: 2025-02-09 22:05:42 -0500 (Sun, 09 Feb 2025) EndedAt: 2025-02-09 22:05:45 -0500 (Sun, 09 Feb 2025) EllapsedTime: 3.1 seconds RetCode: 0 Status: OK PackageFile: AMOUNTAIN_1.33.0.tgz PackageFileSize: 1.766 MiB