Package: AMOUNTAIN Version: 1.33.0 Command: /Library/Frameworks/R.framework/Resources/bin/R CMD check --install=check:AMOUNTAIN.install-out.txt --library=/Library/Frameworks/R.framework/Resources/library --no-vignettes --timings AMOUNTAIN_1.33.0.tar.gz StartedAt: 2025-02-09 18:02:16 -0500 (Sun, 09 Feb 2025) EndedAt: 2025-02-09 18:02:27 -0500 (Sun, 09 Feb 2025) EllapsedTime: 11.1 seconds RetCode: 0 Status: OK CheckDir: AMOUNTAIN.Rcheck Warnings: 0