Package: AMOUNTAIN Version: 1.33.0 Command: /Library/Frameworks/R.framework/Resources/bin/R CMD INSTALL AMOUNTAIN StartedAt: 2025-02-09 15:01:29 -0500 (Sun, 09 Feb 2025) EndedAt: 2025-02-09 15:01:34 -0500 (Sun, 09 Feb 2025) EllapsedTime: 5.0 seconds RetCode: 0 Status: OK