Package: AMOUNTAIN Version: 1.33.0 Command: /Library/Frameworks/R.framework/Resources/bin/R CMD build --keep-empty-dirs --no-resave-data AMOUNTAIN StartedAt: 2025-02-09 15:53:15 -0500 (Sun, 09 Feb 2025) EndedAt: 2025-02-09 15:53:36 -0500 (Sun, 09 Feb 2025) EllapsedTime: 20.6 seconds RetCode: 0 Status: OK PackageFile: AMOUNTAIN_1.33.0.tar.gz PackageFileSize: 1.712 MiB