Package: AMOUNTAIN Version: 1.33.0 Command: /Library/Frameworks/R.framework/Resources/bin/R CMD check --install=check:AMOUNTAIN.install-out.txt --library=/Library/Frameworks/R.framework/Resources/library --no-vignettes --timings AMOUNTAIN_1.33.0.tar.gz StartedAt: 2025-02-04 18:53:15 -0500 (Tue, 04 Feb 2025) EndedAt: 2025-02-04 18:53:43 -0500 (Tue, 04 Feb 2025) EllapsedTime: 27.7 seconds RetCode: 0 Status: OK CheckDir: AMOUNTAIN.Rcheck Warnings: 0