Package: AMOUNTAIN Version: 1.33.0 Command: /Library/Frameworks/R.framework/Resources/bin/R CMD INSTALL AMOUNTAIN StartedAt: 2025-02-09 15:04:10 -0500 (Sun, 09 Feb 2025) EndedAt: 2025-02-09 15:04:56 -0500 (Sun, 09 Feb 2025) EllapsedTime: 46.0 seconds RetCode: 0 Status: OK