Package: AMOUNTAIN Version: 1.33.0 Command: /home/biocbuild/bbs-3.21-bioc/R/bin/R CMD build --keep-empty-dirs --no-resave-data AMOUNTAIN StartedAt: 2025-02-09 16:08:16 -0500 (Sun, 09 Feb 2025) EndedAt: 2025-02-09 16:08:30 -0500 (Sun, 09 Feb 2025) EllapsedTime: 14.0 seconds RetCode: 0 Status: OK PackageFile: AMOUNTAIN_1.33.0.tar.gz PackageFileSize: 1.639 MiB