Package: AMOUNTAIN Version: 1.33.0 Command: /home/biocbuild/bbs-3.21-bioc/R/bin/R CMD check --install=check:AMOUNTAIN.install-out.txt --library=/home/biocbuild/bbs-3.21-bioc/R/site-library --timings AMOUNTAIN_1.33.0.tar.gz StartedAt: 2025-02-09 19:59:02 -0500 (Sun, 09 Feb 2025) EndedAt: 2025-02-09 19:59:31 -0500 (Sun, 09 Feb 2025) EllapsedTime: 29.0 seconds RetCode: 0 Status: OK CheckDir: AMOUNTAIN.Rcheck Warnings: 0