Package: AMOUNTAIN Version: 1.33.0 Command: /home/biocbuild/bbs-3.21-bioc/R/bin/R CMD INSTALL AMOUNTAIN StartedAt: 2025-02-09 15:11:31 -0500 (Sun, 09 Feb 2025) EndedAt: 2025-02-09 15:11:34 -0500 (Sun, 09 Feb 2025) EllapsedTime: 2.5 seconds RetCode: 0 Status: OK