Package: AMOUNTAIN Version: 1.33.0 Command: chmod a+r AMOUNTAIN -R && E:\biocbuild\bbs-3.21-bioc\R\bin\R.exe CMD build --keep-empty-dirs --no-resave-data AMOUNTAIN StartedAt: 2025-02-04 17:08:40 -0500 (Tue, 04 Feb 2025) EndedAt: 2025-02-04 17:09:11 -0500 (Tue, 04 Feb 2025) EllapsedTime: 30.7 seconds RetCode: 0 Status: OK PackageFile: AMOUNTAIN_1.33.0.tar.gz PackageFileSize: 1.095 MiB