Package: AMOUNTAIN Version: 1.33.0 Command: E:\biocbuild\bbs-3.21-bioc\R\bin\R.exe CMD INSTALL AMOUNTAIN StartedAt: 2025-02-09 15:20:07 -0500 (Sun, 09 Feb 2025) EndedAt: 2025-02-09 15:20:38 -0500 (Sun, 09 Feb 2025) EllapsedTime: 31.4 seconds RetCode: 0 Status: OK