Package: APL Version: 1.11.2 Command: /Library/Frameworks/R.framework/Resources/bin/R CMD INSTALL APL StartedAt: 2025-02-09 15:17:57 -0500 (Sun, 09 Feb 2025) EndedAt: 2025-02-09 15:18:13 -0500 (Sun, 09 Feb 2025) EllapsedTime: 16.3 seconds RetCode: 0 Status: OK