Package: APL Version: 1.11.2 Command: /Library/Frameworks/R.framework/Resources/bin/R CMD build --keep-empty-dirs --no-resave-data APL StartedAt: 2025-02-10 15:52:55 -0500 (Mon, 10 Feb 2025) EndedAt: 2025-02-10 15:56:34 -0500 (Mon, 10 Feb 2025) EllapsedTime: 218.2 seconds RetCode: 0 Status: OK PackageFile: APL_1.11.2.tar.gz PackageFileSize: 2.436 MiB